BEGIN:VCALENDAR
PRODID:-//hacksw/handcal//NONSGML v1.0//EN
VERSION:2.0
METHOD:PUBLISH
BEGIN:VEVENT
DTSTART:20140123T103000Z
DTEND:20140123T123000Z
LOCATION:The Mountain City Club
UID:993820140123T103000ZFinancial Update
DTSTAMP:20260423T155030Z
DESCRIPTION:
SUMMARY:Financial Update - Estate Planning Council of Chattanooga 
PRIORITY:3
BEGIN:VALARM
TRIGGER:PT18H
ACTION:DISPLAY
DESCRIPTION:Reminder
END:VALARM
END:VEVENT
END:VCALENDAR