BEGIN:VCALENDAR
PRODID:-//hacksw/handcal//NONSGML v1.0//EN
VERSION:2.0
METHOD:PUBLISH
BEGIN:VEVENT
DTSTART:20131024T093000Z
DTEND:20131024T113000Z
LOCATION:The Mountain City Club of Chattanooga
UID:993720131024T093000ZResponding to questions from Elderly clients regarding HIPAA, Medicaid Annuities and the Affordable Care Act
DTSTAMP:20260423T154305Z
DESCRIPTION:\nMr. McGuffey will answer the most frequently asked questions by seniors and/or their family members on the above topics to provide the council with the tools they need to give their elderly clients peace of mind that is priceless.\n
SUMMARY:Responding to questions from Elderly clients regarding HIPAA, Medicaid Annuities and the Affordable Care Act - Estate Planning Council of Chattanooga 
PRIORITY:3
BEGIN:VALARM
TRIGGER:PT18H
ACTION:DISPLAY
DESCRIPTION:Reminder
END:VALARM
END:VEVENT
END:VCALENDAR