BEGIN:VCALENDAR
PRODID:-//hacksw/handcal//NONSGML v1.0//EN
VERSION:2.0
METHOD:PUBLISH
BEGIN:VEVENT
DTSTART:20131121T223000Z
DTEND:20131122T003000Z
LOCATION:The Mountain City Club of Chattanooga
UID:747720131121T223000ZTennessee Investment Services Act Trusts
DTSTAMP:20260423T153553Z
DESCRIPTION:\nTennessee Investment Services Act Trusts:   Mr. Goode will begin his presentation with a basic description of Tennessee Investment Services Act Trusts, and their uses.  Then he will discuss the advantages of Tennessee as a trust jurisdiction, and make a comparison with Georgia trust laws.  He will then discuss the current case law surrounding asset protection trusts in general, and highlight some of the limitations on their use.\n
SUMMARY:Tennessee Investment Services Act Trusts - Estate Planning Council of Chattanooga 
PRIORITY:3
BEGIN:VALARM
TRIGGER:PT18H
ACTION:DISPLAY
DESCRIPTION:Reminder
END:VALARM
END:VEVENT
END:VCALENDAR