BEGIN:VCALENDAR
PRODID:-//hacksw/handcal//NONSGML v1.0//EN
VERSION:2.0
METHOD:PUBLISH
BEGIN:VEVENT
DTSTART:20130516T213000Z
DTEND:20130517T003000Z
LOCATION:The Teneesee Aguarium
UID:744120130516T213000ZAnnual Social Event
DTSTAMP:20260423T153634Z
DESCRIPTION:
SUMMARY:Annual Social Event - Estate Planning Council of Chattanooga 
PRIORITY:3
BEGIN:VALARM
TRIGGER:PT18H
ACTION:DISPLAY
DESCRIPTION:Reminder
END:VALARM
END:VEVENT
END:VCALENDAR