BEGIN:VCALENDAR
PRODID:-//hacksw/handcal//NONSGML v1.0//EN
VERSION:2.0
METHOD:PUBLISH
BEGIN:VEVENT
DTSTART:20130425T213000Z
DTEND:20130425T233000Z
LOCATION:The Mountain City Club of Chattanooga
UID:744020130425T213000ZHealth Care for America Plan or (Obama Care) Legislative Update
DTSTAMP:20260423T152629Z
DESCRIPTION:
SUMMARY:Health Care for America Plan or (Obama Care) Legislative Update - Estate Planning Council of Chattanooga 
PRIORITY:3
BEGIN:VALARM
TRIGGER:PT18H
ACTION:DISPLAY
DESCRIPTION:Reminder
END:VALARM
END:VEVENT
END:VCALENDAR