BEGIN:VCALENDAR
PRODID:-//hacksw/handcal//NONSGML v1.0//EN
VERSION:2.0
METHOD:PUBLISH
BEGIN:VEVENT
DTSTART:20130328T213000Z
DTEND:20130328T233000Z
LOCATION:The Mountain City Club of Chatttanooga
UID:743820130328T213000ZWhat I Would Like to Know About the Life Insurance Business if I Didn't Already Know It
DTSTAMP:20260423T152932Z
DESCRIPTION:\n  \n  \n“WHAT I WOULD LIKE TO KNOW ABOUT THE LIFE INSURANCE BUSINESS IF I DIDN’T ALREADY KNOW IT \n(or at least thought I did)” \n  \n  \n  \n  \n  \nPresented By \n  \n  \nCLARK B. McCLEARY, CLU, ChFC, AEP (Distinguished) \n  \n  \nto   \n  \n  \n  \nTHE CHATTANOOGA \n  \nESTATE PLANNING COUNCIL \n  \n  \n  \n  \n  \n  \n  \n  \n  \nMARCH 28, 2013
SUMMARY:What I Would Like to Know About the Life Insurance Business if I Didn't Already Know It - Estate Planning Council of Chattanooga 
PRIORITY:3
BEGIN:VALARM
TRIGGER:PT18H
ACTION:DISPLAY
DESCRIPTION:Reminder
END:VALARM
END:VEVENT
END:VCALENDAR