BEGIN:VCALENDAR
PRODID:-//hacksw/handcal//NONSGML v1.0//EN
VERSION:2.0
METHOD:PUBLISH
BEGIN:VEVENT
DTSTART:20130228T223000Z
DTEND:20130301T003000Z
LOCATION:The Mountain City Club of Chattanooga
UID:682220130228T223000ZTBA
DTSTAMP:20260423T152932Z
DESCRIPTION:
SUMMARY:TBA - Estate Planning Council of Chattanooga 
PRIORITY:3
BEGIN:VALARM
TRIGGER:PT18H
ACTION:DISPLAY
DESCRIPTION:Reminder
END:VALARM
END:VEVENT
END:VCALENDAR