BEGIN:VCALENDAR
PRODID:-//hacksw/handcal//NONSGML v1.0//EN
VERSION:2.0
METHOD:PUBLISH
BEGIN:VEVENT
DTSTART:20130124T223000Z
DTEND:20130125T003000Z
LOCATION:The Mountain City Club
UID:682120130124T223000Z2013 Capital Markets Update
DTSTAMP:20260423T154833Z
DESCRIPTION:
SUMMARY:2013 Capital Markets Update - Estate Planning Council of Chattanooga 
PRIORITY:3
BEGIN:VALARM
TRIGGER:PT18H
ACTION:DISPLAY
DESCRIPTION:Reminder
END:VALARM
END:VEVENT
END:VCALENDAR