BEGIN:VCALENDAR
PRODID:-//hacksw/handcal//NONSGML v1.0//EN
VERSION:2.0
METHOD:PUBLISH
BEGIN:VEVENT
DTSTART:20121115T223000Z
DTEND:20121116T003000Z
LOCATION:The Mountain City Club of Chattanooga
UID:682020121115T223000ZPositioning of the Family Business and Wealth
DTSTAMP:20260423T152924Z
DESCRIPTION:
SUMMARY:Positioning of the Family Business and Wealth - Estate Planning Council of Chattanooga 
PRIORITY:3
BEGIN:VALARM
TRIGGER:PT18H
ACTION:DISPLAY
DESCRIPTION:Reminder
END:VALARM
END:VEVENT
END:VCALENDAR