BEGIN:VCALENDAR
PRODID:-//hacksw/handcal//NONSGML v1.0//EN
VERSION:2.0
METHOD:PUBLISH
BEGIN:VEVENT
DTSTART:20121025T213000Z
DTEND:20121025T233000Z
LOCATION:The Mountain City Club of Chattanooga
UID:675620121025T213000ZThe Increased Importance of Basis Planning
DTSTAMP:20260423T153130Z
DESCRIPTION:
SUMMARY:The Increased Importance of Basis Planning - Estate Planning Council of Chattanooga 
PRIORITY:3
BEGIN:VALARM
TRIGGER:PT18H
ACTION:DISPLAY
DESCRIPTION:Reminder
END:VALARM
END:VEVENT
END:VCALENDAR