BEGIN:VCALENDAR
PRODID:-//hacksw/handcal//NONSGML v1.0//EN
VERSION:2.0
METHOD:PUBLISH
BEGIN:VEVENT
DTSTART:20120426T213000Z
DTEND:20120427T000000Z
LOCATION:The Mountain City Club of Chattanooga
UID:597120120426T213000ZAdaptable Planning Advice for 2012
DTSTAMP:20260423T160015Z
DESCRIPTION:\nPlanning opportunities and flexible/adaptable aspects needed for successful longer term irrevocable trusts.  At the core of wealth transfer planning opportunities typically lies a trust and this session focuses on the fiduciary aspects and provisions in having those trust be adaptable to meet the changing economic, legal and familial circumstances.   \n \n Adaptive Postmortem Planning Trusts (Disclaimer, Clayton Marital, One-Lung Marital) Spousal Lifetime Access Trusts Beneficiary Taxed Grantor Trusts Defined Value Clauses Powers of Appointment (Special and Decanting) The use of Trust Protectors Adaptable Trustee and Distribution Provisions to Consider
SUMMARY:Adaptable Planning Advice for 2012 - Estate Planning Council of Chattanooga 
PRIORITY:3
BEGIN:VALARM
TRIGGER:PT18H
ACTION:DISPLAY
DESCRIPTION:Reminder
END:VALARM
END:VEVENT
END:VCALENDAR