BEGIN:VCALENDAR
PRODID:-//hacksw/handcal//NONSGML v1.0//EN
VERSION:2.0
METHOD:PUBLISH
BEGIN:VEVENT
DTSTART:20120517T223000Z
DTEND:20120518T000000Z
LOCATION:Chattanooga Auction House
UID:596920120517T223000ZMember Spouse Social
DTSTAMP:20260423T152756Z
DESCRIPTION:\nAddress of the Chattanooga Auction House is 2423 Broad Street, Chattanooga, TN 37408.  Their phone number is 423/266-6603.  Their website is  http://www.thechattanoogaauctionhouse.com/ .\n
SUMMARY:Member Spouse Social - Estate Planning Council of Chattanooga 
PRIORITY:3
BEGIN:VALARM
TRIGGER:PT18H
ACTION:DISPLAY
DESCRIPTION:Reminder
END:VALARM
END:VEVENT
END:VCALENDAR