BEGIN:VCALENDAR
PRODID:-//hacksw/handcal//NONSGML v1.0//EN
VERSION:2.0
METHOD:PUBLISH
BEGIN:VEVENT
DTSTART:20120126T223000Z
DTEND:20120127T010000Z
LOCATION:The Mountain CIty Club of Chattanooga
UID:596620120126T223000Z2012 Capital Markets Update
DTSTAMP:20260423T153222Z
DESCRIPTION:
SUMMARY:2012 Capital Markets Update - Estate Planning Council of Chattanooga 
PRIORITY:3
BEGIN:VALARM
TRIGGER:PT18H
ACTION:DISPLAY
DESCRIPTION:Reminder
END:VALARM
END:VEVENT
END:VCALENDAR