BEGIN:VCALENDAR
PRODID:-//hacksw/handcal//NONSGML v1.0//EN
VERSION:2.0
METHOD:PUBLISH
BEGIN:VEVENT
DTSTART:20111117T223000Z
DTEND:20111118T010000Z
LOCATION:The Mountain City Club of Chattanooga
UID:501420111117T223000ZTrends, Changes, and Shakeout in The Insurance Industry
DTSTAMP:20260423T152540Z
DESCRIPTION:\n    \nThe Life Insurance Audit provides a comprehensive evaluation of the performance of Life Insurance as well as recommendations to optimize these policies. \nThe evaluation will:  \n        validate the appropriateness of coverage \n        ensures the coverage is titled appropriately \n        assess mortality and underwriting risk \n        provide a specific action plan with numerous options for their existing coverage \nA Life Insurance Audit provides valuable information \n                74% of existing policies can be restructured to provide greater value 1 \n                At least 32 million U.S. households own insurance  policies that are not appropriate for them \n                64% of those insured do not know what they  currently have, or why they bought a policy 3 \n   \n1 Ash Brokerage Advanced Markets Internal Marketing Study, 2010 \n2 Insurance Information Institute, 2008 \n3 TheInsuranceAdvisor.com
SUMMARY:Trends, Changes, and Shakeout in The Insurance Industry - Estate Planning Council of Chattanooga 
PRIORITY:3
BEGIN:VALARM
TRIGGER:PT18H
ACTION:DISPLAY
DESCRIPTION:Reminder
END:VALARM
END:VEVENT
END:VCALENDAR