BEGIN:VCALENDAR
PRODID:-//hacksw/handcal//NONSGML v1.0//EN
VERSION:2.0
METHOD:PUBLISH
BEGIN:VEVENT
DTSTART:20111013T153000Z
DTEND:20111013T170000Z
LOCATION:Chattanooga Convention and Trade Center
UID:501220111013T153000ZJoint Meeting With The TSCPA
DTSTAMP:20260423T152756Z
DESCRIPTION:\nThe meeting should begin at 11:50am.\n
SUMMARY:Joint Meeting With The TSCPA - Estate Planning Council of Chattanooga 
PRIORITY:3
BEGIN:VALARM
TRIGGER:PT18H
ACTION:DISPLAY
DESCRIPTION:Reminder
END:VALARM
END:VEVENT
END:VCALENDAR