BEGIN:VCALENDAR
PRODID:-//hacksw/handcal//NONSGML v1.0//EN
VERSION:2.0
METHOD:PUBLISH
BEGIN:VEVENT
DTSTART:20110519T090000Z
DTEND:20110519T090000Z
LOCATION:To Be Determined
UID:501020110519T090000ZSpring Social for Members and Guests
DTSTAMP:20260423T152629Z
DESCRIPTION:
SUMMARY:Spring Social for Members and Guests - Estate Planning Council of Chattanooga 
PRIORITY:3
BEGIN:VALARM
TRIGGER:PT18H
ACTION:DISPLAY
DESCRIPTION:Reminder
END:VALARM
END:VEVENT
END:VCALENDAR