BEGIN:VCALENDAR
PRODID:-//hacksw/handcal//NONSGML v1.0//EN
VERSION:2.0
METHOD:PUBLISH
BEGIN:VEVENT
DTSTART:20110428T213000Z
DTEND:20110429T000000Z
LOCATION:Mountain City Club of Chattanooga
UID:500920110428T213000ZEstates and Business Value Enhancement
DTSTAMP:20260423T154431Z
DESCRIPTION:
SUMMARY:Estates and Business Value Enhancement - Estate Planning Council of Chattanooga 
PRIORITY:3
BEGIN:VALARM
TRIGGER:PT18H
ACTION:DISPLAY
DESCRIPTION:Reminder
END:VALARM
END:VEVENT
END:VCALENDAR