BEGIN:VCALENDAR
PRODID:-//hacksw/handcal//NONSGML v1.0//EN
VERSION:2.0
METHOD:PUBLISH
BEGIN:VEVENT
DTSTART:20110224T223000Z
DTEND:20110225T010000Z
LOCATION:The Mountain City Club
UID:500720110224T223000ZLike a Phoenix Rising From the Ashes:  Planning Under the New Estate Tax Regime
DTSTAMP:20260423T153815Z
DESCRIPTION:\nThis program will look at the impact of the Middle Class Tax Relief Act of 2010, which Congress passed and the President signed on December 17, 2010, on estate planners and their clients.  Among the topics to be discussed are planning with a $5 million exemption, how the reunification of the estate and gift taxes affects clients, the challenges of portability, and how to and not to do GST planning.\n
SUMMARY:Like a Phoenix Rising From the Ashes:  Planning Under the New Estate Tax Regime - Estate Planning Council of Chattanooga 
PRIORITY:3
BEGIN:VALARM
TRIGGER:PT18H
ACTION:DISPLAY
DESCRIPTION:Reminder
END:VALARM
END:VEVENT
END:VCALENDAR