BEGIN:VCALENDAR
PRODID:-//hacksw/handcal//NONSGML v1.0//EN
VERSION:2.0
METHOD:PUBLISH
BEGIN:VEVENT
DTSTART:20101028T213000Z
DTEND:20101029T000000Z
LOCATION:The Mountain City Club of Chattanooga
UID:498620101028T213000ZGrantor Retained Annuity Trust, (GRATS)
DTSTAMP:20260423T152734Z
DESCRIPTION:
SUMMARY:Grantor Retained Annuity Trust, (GRATS) - Estate Planning Council of Chattanooga 
PRIORITY:3
BEGIN:VALARM
TRIGGER:PT18H
ACTION:DISPLAY
DESCRIPTION:Reminder
END:VALARM
END:VEVENT
END:VCALENDAR