BEGIN:VCALENDAR
PRODID:-//hacksw/handcal//NONSGML v1.0//EN
VERSION:2.0
METHOD:PUBLISH
BEGIN:VEVENT
DTSTART:20100923T213000Z
DTEND:20100924T000000Z
LOCATION:The Mountain City Club of Chattanooga
UID:494120100923T213000Z"So What do we do Now?" 
DTSTAMP:20260423T152705Z
DESCRIPTION:
SUMMARY:"So What do we do Now?"  - Estate Planning Council of Chattanooga 
PRIORITY:3
BEGIN:VALARM
TRIGGER:PT18H
ACTION:DISPLAY
DESCRIPTION:Reminder
END:VALARM
END:VEVENT
END:VCALENDAR