BEGIN:VCALENDAR
PRODID:-//hacksw/handcal//NONSGML v1.0//EN
VERSION:2.0
METHOD:PUBLISH
BEGIN:VEVENT
DTSTART:20100422T213000Z
DTEND:20100423T000000Z
LOCATION:The Mountain City Club of Chattanooga
UID:434020100422T213000ZPsychology of Understanding Family Dynamics
DTSTAMP:20260423T152831Z
DESCRIPTION:
SUMMARY:Psychology of Understanding Family Dynamics - Estate Planning Council of Chattanooga 
PRIORITY:3
BEGIN:VALARM
TRIGGER:PT18H
ACTION:DISPLAY
DESCRIPTION:Reminder
END:VALARM
END:VEVENT
END:VCALENDAR