BEGIN:VCALENDAR
PRODID:-//hacksw/handcal//NONSGML v1.0//EN
VERSION:2.0
METHOD:PUBLISH
BEGIN:VEVENT
DTSTART:20100527T213000Z
DTEND:20100528T000000Z
LOCATION:To be determined
UID:433920100527T213000ZAnnual Social Event for EPC of Chattanooga
DTSTAMP:20260423T152705Z
DESCRIPTION:
SUMMARY:Annual Social Event for EPC of Chattanooga - Estate Planning Council of Chattanooga 
PRIORITY:3
BEGIN:VALARM
TRIGGER:PT18H
ACTION:DISPLAY
DESCRIPTION:Reminder
END:VALARM
END:VEVENT
END:VCALENDAR