BEGIN:VCALENDAR
PRODID:-//hacksw/handcal//NONSGML v1.0//EN
VERSION:2.0
METHOD:PUBLISH
BEGIN:VEVENT
DTSTART:20100325T213000Z
DTEND:20100326T000000Z
LOCATION:The Mountain City Club of Chattanooga
UID:433820100325T213000ZFamily Wealth Preservation:  Integrating Family Virtues with Wealth Planning for a Lasting Legacy
DTSTAMP:20260423T152734Z
DESCRIPTION:
SUMMARY:Family Wealth Preservation:  Integrating Family Virtues with Wealth Planning for a Lasting Legacy - Estate Planning Council of Chattanooga 
PRIORITY:3
BEGIN:VALARM
TRIGGER:PT18H
ACTION:DISPLAY
DESCRIPTION:Reminder
END:VALARM
END:VEVENT
END:VCALENDAR