BEGIN:VCALENDAR
PRODID:-//hacksw/handcal//NONSGML v1.0//EN
VERSION:2.0
METHOD:PUBLISH
BEGIN:VEVENT
DTSTART:20100225T223000Z
DTEND:20100226T010000Z
LOCATION:The Mountain City Club of Chattanooga
UID:433720100225T223000ZAcross the Great Divide...Gift Planning Officers & Professional Advisors: Synergy for Success
DTSTAMP:20260423T153553Z
DESCRIPTION:
SUMMARY:Across the Great Divide...Gift Planning Officers & Professional Advisors: Synergy for Success - Estate Planning Council of Chattanooga 
PRIORITY:3
BEGIN:VALARM
TRIGGER:PT18H
ACTION:DISPLAY
DESCRIPTION:Reminder
END:VALARM
END:VEVENT
END:VCALENDAR