BEGIN:VCALENDAR
PRODID:-//hacksw/handcal//NONSGML v1.0//EN
VERSION:2.0
METHOD:PUBLISH
BEGIN:VEVENT
DTSTART:20101118T223000Z
DTEND:20101119T010000Z
LOCATION:Mountain City Club of  Chattanooga
UID:433620101118T223000ZExit Strategy Planning
DTSTAMP:20260423T152841Z
DESCRIPTION:\nThis meeting will demonstrate how Exit Planning is a customized process of setting goals and deciding how best to achieve them. You will learn how to assist business owners whose successor target might be children, a key employee or an outside buyer, discover how Exit Planning helps the business owner maximize their financial return and minimize the tax liability when transferring their business. If they die or become disabled before they retire, Exit Planning will help the business survive their departure – enabling the business owner and their family to receive its full value.\n \n \n \nDiscussion will include:\n \n• Establishing an owner’s objectives.\n \n• Establishing business value and cash flow.\n \n• Promoting value through value drivers throughout the transition process.\n \n• Selling the business to a third party for top dollar.\n \n• Transferring the business to management or family members who have no cash.\n \n• Developing a contingency plan for the business.\n \n• Wealth Preservation Planning.\n \n \n \n \n
SUMMARY:Exit Strategy Planning - Estate Planning Council of Chattanooga 
PRIORITY:3
BEGIN:VALARM
TRIGGER:PT18H
ACTION:DISPLAY
DESCRIPTION:Reminder
END:VALARM
END:VEVENT
END:VCALENDAR