BEGIN:VCALENDAR
PRODID:-//hacksw/handcal//NONSGML v1.0//EN
VERSION:2.0
METHOD:PUBLISH
BEGIN:VEVENT
DTSTART:20100121T223000Z
DTEND:20100122T010000Z
LOCATION:The Mountain City Club of Chattanooga
UID:423220100121T223000Z2010 Capital Markets Outlook
DTSTAMP:20260423T152530Z
DESCRIPTION:
SUMMARY:2010 Capital Markets Outlook - Estate Planning Council of Chattanooga 
PRIORITY:3
BEGIN:VALARM
TRIGGER:PT18H
ACTION:DISPLAY
DESCRIPTION:Reminder
END:VALARM
END:VEVENT
END:VCALENDAR