BEGIN:VCALENDAR
PRODID:-//hacksw/handcal//NONSGML v1.0//EN
VERSION:2.0
METHOD:PUBLISH
BEGIN:VEVENT
DTSTART:20091020T153000Z
DTEND:20091020T170000Z
LOCATION:Marriott Convention Center, 2nd floor 
UID:423020091020T153000ZPlanning Opportunities in the Retirement Marketplace
DTSTAMP:20260423T153330Z
DESCRIPTION:\nRobert S. Keebler, CPA, MST, AEP (Distinguished) is a partner with Baker Tilly Virchow Krause, LLP and chair of the Baker Tilly Estate and Financial Planning Group. He is a 2007 recipient of the prestigious Accredited Estate Planners (Distinguished) award from the National Association of Estate Planning counsels. Mr. Keebler has been named by CPA Magazine as one of the Top 100 Most Influential Practitioners in the United States as well as one of the Top 40 Tax Advisors to Know During a Recession. Mr. Keebler frequently represents clients before the IRS National Office in the private letter ruling process and in estate, gift and income tax examinations and appeals, and he has received more than 150 favorable private letter rulings including several key rulings of \n
SUMMARY:Planning Opportunities in the Retirement Marketplace - Estate Planning Council of Chattanooga 
PRIORITY:3
BEGIN:VALARM
TRIGGER:PT18H
ACTION:DISPLAY
DESCRIPTION:Reminder
END:VALARM
END:VEVENT
END:VCALENDAR