BEGIN:VCALENDAR
PRODID:-//hacksw/handcal//NONSGML v1.0//EN
VERSION:2.0
METHOD:PUBLISH
BEGIN:VEVENT
DTSTART:20090924T213000Z
DTEND:20090925T000000Z
LOCATION:The Mountain City Club
UID:391620090924T213000ZSome of the Best 2009 Estate Planning Ideas
DTSTAMP:20260423T153553Z
DESCRIPTION:\nStacy Eastland is Managing Director of Goldman Sachs & Company (Houston). He joined the firm to expand the advisory team working with PWM private clients. He currently works with private clients and their own advisors with their strategic wealth management plans, combining a variety of income tax, estate planning and gifting techniques. Prior to joining Goldman Sachs in October 2000, Mr. Eastland was a senior partner with Baker Botts, L.L.P. in Houston, Texas. Mr. Eastland received his B.S. (with Honors) from Washington and Lee and his J.D. from The University of Texas (with Honors). Mr. Eastland's professional associations include: Member of the International Academy of Estate and Trust Law; Fellow of the American College of Trust and Estate Counsel (Regent for 1992/1998 term); Member of the American Bar Association (Supervisory Council Member of the Real Property, Probate and Trust Law Section from 1990-1998); Member of the Texas Bar Association (Texas Bar Foundation Fellow); Member of the Houston Bar Association (Houston Bar Foundation Fellow). Mr. Eastland is listed in Who's Who in America and The Best Lawyers in America (Woodard, White). Mr. Eastland has also been listed in Town & Country and in Bloomberg Personal Finance as one of the top trust and estate lawyers in the U.S. Articles about Mr. Eastland's planning ideas have also been featured in Forbes and Fortune magazines. Mr. Eastland is a prominent lecturer throughout the country. \n
SUMMARY:Some of the Best 2009 Estate Planning Ideas - Estate Planning Council of Chattanooga 
PRIORITY:3
BEGIN:VALARM
TRIGGER:PT18H
ACTION:DISPLAY
DESCRIPTION:Reminder
END:VALARM
END:VEVENT
END:VCALENDAR