BEGIN:VCALENDAR
PRODID:-//hacksw/handcal//NONSGML v1.0//EN
VERSION:2.0
METHOD:PUBLISH
BEGIN:VEVENT
DTSTART:20090519T220000Z
LOCATION:
UID:381620090519T220000ZAnnual Social Event
DTSTAMP:20260423T153706Z
DESCRIPTION:\nThis year's social event will be held at the Hunter Museum of Art and will include food, drinks, and great company from our members. With a difficult economy, don't miss this great networking event. \n
SUMMARY:Annual Social Event - Estate Planning Council of Chattanooga 
PRIORITY:3
BEGIN:VALARM
TRIGGER:PT18H
ACTION:DISPLAY
DESCRIPTION:Reminder
END:VALARM
END:VEVENT
END:VCALENDAR