BEGIN:VCALENDAR
PRODID:-//hacksw/handcal//NONSGML v1.0//EN
VERSION:2.0
METHOD:PUBLISH
BEGIN:VEVENT
DTSTART:20091119T223000Z
DTEND:20091120T010000Z
LOCATION:The Mountain City Club
UID:289820091119T223000ZEstate and Tax Planning with Intentionally Defective Trusts
DTSTAMP:20260423T153706Z
DESCRIPTION:
SUMMARY:Estate and Tax Planning with Intentionally Defective Trusts - Estate Planning Council of Chattanooga 
PRIORITY:3
BEGIN:VALARM
TRIGGER:PT18H
ACTION:DISPLAY
DESCRIPTION:Reminder
END:VALARM
END:VEVENT
END:VCALENDAR