BEGIN:VCALENDAR
PRODID:-//hacksw/handcal//NONSGML v1.0//EN
VERSION:2.0
METHOD:PUBLISH
BEGIN:VEVENT
DTSTART:20250819T210000Z
DTEND:20250819T223000Z
LOCATION:Walden Club Bar
UID:2816620250819T210000ZFall Meet and Greet Social
DTSTAMP:20260423T153634Z
DESCRIPTION:
SUMMARY:Fall Meet and Greet Social - Estate Planning Council of Chattanooga 
PRIORITY:3
BEGIN:VALARM
TRIGGER:PT18H
ACTION:DISPLAY
DESCRIPTION:Reminder
END:VALARM
END:VEVENT
END:VCALENDAR