BEGIN:VCALENDAR
PRODID:-//hacksw/handcal//NONSGML v1.0//EN
VERSION:2.0
METHOD:PUBLISH
BEGIN:VEVENT
DTSTART:20260122T230000Z
DTEND:20260123T000000Z
LOCATION:Walden Club
UID:2816520260122T230000ZCapital Markets Update
DTSTAMP:20260423T154900Z
DESCRIPTION:
SUMMARY:Capital Markets Update - Estate Planning Council of Chattanooga 
PRIORITY:3
BEGIN:VALARM
TRIGGER:PT18H
ACTION:DISPLAY
DESCRIPTION:Reminder
END:VALARM
END:VEVENT
END:VCALENDAR