BEGIN:VCALENDAR
PRODID:-//hacksw/handcal//NONSGML v1.0//EN
VERSION:2.0
METHOD:PUBLISH
BEGIN:VEVENT
DTSTART:20260226T230000Z
DTEND:20260227T000000Z
LOCATION:Walden Club
UID:2816420260226T230000ZSilver Linings & Strategic Gifting: Estate Planning in Times of Uncertainty
DTSTAMP:20260423T154305Z
DESCRIPTION:
SUMMARY:Silver Linings & Strategic Gifting: Estate Planning in Times of Uncertainty - Estate Planning Council of Chattanooga 
PRIORITY:3
BEGIN:VALARM
TRIGGER:PT18H
ACTION:DISPLAY
DESCRIPTION:Reminder
END:VALARM
END:VEVENT
END:VCALENDAR