BEGIN:VCALENDAR
PRODID:-//hacksw/handcal//NONSGML v1.0//EN
VERSION:2.0
METHOD:PUBLISH
BEGIN:VEVENT
DTSTART:20251120T230000Z
DTEND:20251121T000000Z
LOCATION:Walden Club
UID:2793020251120T230000ZGenerative A.I. and its Impact on the Legal Profession
DTSTAMP:20260423T155207Z
DESCRIPTION:
SUMMARY:Generative A.I. and its Impact on the Legal Profession - Estate Planning Council of Chattanooga 
PRIORITY:3
BEGIN:VALARM
TRIGGER:PT18H
ACTION:DISPLAY
DESCRIPTION:Reminder
END:VALARM
END:VEVENT
END:VCALENDAR