BEGIN:VCALENDAR
PRODID:-//hacksw/handcal//NONSGML v1.0//EN
VERSION:2.0
METHOD:PUBLISH
BEGIN:VEVENT
DTSTART:20251022T160000Z
DTEND:20251022T170000Z
LOCATION:Zoom Meeting
UID:2792920251022T160000Z Won’t Get Fooled Again— Securing Buy/Sell Funding after Connelly
DTSTAMP:20260423T154628Z
DESCRIPTION:
SUMMARY: Won’t Get Fooled Again— Securing Buy/Sell Funding after Connelly - Estate Planning Council of Chattanooga 
PRIORITY:3
BEGIN:VALARM
TRIGGER:PT18H
ACTION:DISPLAY
DESCRIPTION:Reminder
END:VALARM
END:VEVENT
END:VCALENDAR