BEGIN:VCALENDAR
PRODID:-//hacksw/handcal//NONSGML v1.0//EN
VERSION:2.0
METHOD:PUBLISH
BEGIN:VEVENT
DTSTART:20250925T220000Z
DTEND:20250925T230000Z
LOCATION:Walden Club
UID:2792820250925T220000ZFederal Tax Update
DTSTAMP:20260423T155024Z
DESCRIPTION:
SUMMARY:Federal Tax Update - Estate Planning Council of Chattanooga 
PRIORITY:3
BEGIN:VALARM
TRIGGER:PT18H
ACTION:DISPLAY
DESCRIPTION:Reminder
END:VALARM
END:VEVENT
END:VCALENDAR