BEGIN:VCALENDAR
PRODID:-//hacksw/handcal//NONSGML v1.0//EN
VERSION:2.0
METHOD:PUBLISH
BEGIN:VEVENT
DTSTART:20250508T210000Z
DTEND:20250508T230000Z
LOCATION:Paloma Bar - Westin Hotel
UID:2704820250508T210000ZMay Social - Paloma Bar - Westin Hotel
DTSTAMP:20260423T155329Z
DESCRIPTION:
SUMMARY:May Social - Paloma Bar - Westin Hotel - Estate Planning Council of Chattanooga 
PRIORITY:3
BEGIN:VALARM
TRIGGER:PT18H
ACTION:DISPLAY
DESCRIPTION:Reminder
END:VALARM
END:VEVENT
END:VCALENDAR