BEGIN:VCALENDAR
PRODID:-//hacksw/handcal//NONSGML v1.0//EN
VERSION:2.0
METHOD:PUBLISH
BEGIN:VEVENT
DTSTART:20250424T220000Z
DTEND:20250424T230000Z
LOCATION:Walden Club
UID:2704720250424T220000ZStuffed. Understanding the emotional hold Stuff has on Americans and helping them let go to make space for the future. 
DTSTAMP:20260423T155322Z
DESCRIPTION:
SUMMARY:Stuffed. Understanding the emotional hold Stuff has on Americans and helping them let go to make space for the future.  - Estate Planning Council of Chattanooga 
PRIORITY:3
BEGIN:VALARM
TRIGGER:PT18H
ACTION:DISPLAY
DESCRIPTION:Reminder
END:VALARM
END:VEVENT
END:VCALENDAR