BEGIN:VCALENDAR
PRODID:-//hacksw/handcal//NONSGML v1.0//EN
VERSION:2.0
METHOD:PUBLISH
BEGIN:VEVENT
DTSTART:20250226T170000Z
DTEND:20250226T180000Z
LOCATION:Zoom Meeting
UID:2704520250226T170000Z Spectrum of Legacies & The CAP Study Group Program
DTSTAMP:20260423T154431Z
DESCRIPTION:
SUMMARY: Spectrum of Legacies & The CAP Study Group Program - Estate Planning Council of Chattanooga 
PRIORITY:3
BEGIN:VALARM
TRIGGER:PT18H
ACTION:DISPLAY
DESCRIPTION:Reminder
END:VALARM
END:VEVENT
END:VCALENDAR