BEGIN:VCALENDAR
PRODID:-//hacksw/handcal//NONSGML v1.0//EN
VERSION:2.0
METHOD:PUBLISH
BEGIN:VEVENT
DTSTART:20250123T220000Z
DTEND:20250124T000000Z
LOCATION:Walden Club
UID:2692020250123T220000ZCapital Market Update
DTSTAMP:20260423T154104Z
DESCRIPTION:
SUMMARY:Capital Market Update - Estate Planning Council of Chattanooga 
PRIORITY:3
BEGIN:VALARM
TRIGGER:PT18H
ACTION:DISPLAY
DESCRIPTION:Reminder
END:VALARM
END:VEVENT
END:VCALENDAR