BEGIN:VCALENDAR
PRODID:-//hacksw/handcal//NONSGML v1.0//EN
VERSION:2.0
METHOD:PUBLISH
BEGIN:VEVENT
DTSTART:20240926T210000Z
DTEND:20240926T230000Z
LOCATION:Walden Club
UID:2608720240926T210000ZCautionary Tales: Navigating the World of Tangible Personal Property and Why Appraisals for Estate Planning Purposes Should be Part of Every Estate Plan Ahead of a Possible Sunsetting Estate Tax.
DTSTAMP:20260423T155403Z
DESCRIPTION:
SUMMARY:Cautionary Tales: Navigating the World of Tangible Personal Property and Why Appraisals for Estate Planning Purposes Should be Part of Every Estate Plan Ahead of a Possible Sunsetting Estate Tax. - Estate Planning Council of Chattanooga 
PRIORITY:3
BEGIN:VALARM
TRIGGER:PT18H
ACTION:DISPLAY
DESCRIPTION:Reminder
END:VALARM
END:VEVENT
END:VCALENDAR