BEGIN:VCALENDAR
PRODID:-//hacksw/handcal//NONSGML v1.0//EN
VERSION:2.0
METHOD:PUBLISH
BEGIN:VEVENT
DTSTART:20241121T230000Z
DTEND:20241122T000000Z
LOCATION:Walden Club
UID:2586720241121T230000ZCaptive Insurance 
DTSTAMP:20260423T153056Z
DESCRIPTION:
SUMMARY:Captive Insurance  - Estate Planning Council of Chattanooga 
PRIORITY:3
BEGIN:VALARM
TRIGGER:PT18H
ACTION:DISPLAY
DESCRIPTION:Reminder
END:VALARM
END:VEVENT
END:VCALENDAR