BEGIN:VCALENDAR
PRODID:-//hacksw/handcal//NONSGML v1.0//EN
VERSION:2.0
METHOD:PUBLISH
BEGIN:VEVENT
DTSTART:20240502T203000Z
DTEND:20240502T223000Z
LOCATION:Paloma Bar at The Westin
UID:2584920240502T203000ZEPC May Social
DTSTAMP:20260423T153751Z
DESCRIPTION:
SUMMARY:EPC May Social - Estate Planning Council of Chattanooga 
PRIORITY:3
BEGIN:VALARM
TRIGGER:PT18H
ACTION:DISPLAY
DESCRIPTION:Reminder
END:VALARM
END:VEVENT
END:VCALENDAR