BEGIN:VCALENDAR
PRODID:-//hacksw/handcal//NONSGML v1.0//EN
VERSION:2.0
METHOD:PUBLISH
BEGIN:VEVENT
DTSTART:20240425T160000Z
DTEND:20240425T170000Z
LOCATION:Zoom
UID:2531720240425T160000ZViatical Settlements
DTSTAMP:20260423T152540Z
DESCRIPTION:
SUMMARY:Viatical Settlements - Estate Planning Council of Chattanooga 
PRIORITY:3
BEGIN:VALARM
TRIGGER:PT18H
ACTION:DISPLAY
DESCRIPTION:Reminder
END:VALARM
END:VEVENT
END:VCALENDAR