BEGIN:VCALENDAR
PRODID:-//hacksw/handcal//NONSGML v1.0//EN
VERSION:2.0
METHOD:PUBLISH
BEGIN:VEVENT
DTSTART:20240328T220000Z
DTEND:20240328T230000Z
LOCATION:Mountain City Club
UID:2531620240328T220000ZTrust and Estate Legislative Update
DTSTAMP:20260423T153130Z
DESCRIPTION:
SUMMARY:Trust and Estate Legislative Update - Estate Planning Council of Chattanooga 
PRIORITY:3
BEGIN:VALARM
TRIGGER:PT18H
ACTION:DISPLAY
DESCRIPTION:Reminder
END:VALARM
END:VEVENT
END:VCALENDAR