BEGIN:VCALENDAR
PRODID:-//hacksw/handcal//NONSGML v1.0//EN
VERSION:2.0
METHOD:PUBLISH
BEGIN:VEVENT
DTSTART:20240222T123000Z
DTEND:20240222T140000Z
LOCATION:Mountain City Club
UID:2531520240222T123000ZThe Charitable Gift Planner's Guide to the Secure Act
DTSTAMP:20260423T155633Z
DESCRIPTION:\nThis is a joint breakfast meeting with the Community Foundation\n
SUMMARY:The Charitable Gift Planner's Guide to the Secure Act - Estate Planning Council of Chattanooga 
PRIORITY:3
BEGIN:VALARM
TRIGGER:PT18H
ACTION:DISPLAY
DESCRIPTION:Reminder
END:VALARM
END:VEVENT
END:VCALENDAR