BEGIN:VCALENDAR
PRODID:-//hacksw/handcal//NONSGML v1.0//EN
VERSION:2.0
METHOD:PUBLISH
BEGIN:VEVENT
DTSTART:20231026T220000Z
DTEND:20231026T230000Z
LOCATION:Mountain City Club
UID:2472920231026T220000ZKeeping a Business in an Estate Alive:  The Creation of a Statute Allowing a Receiver
DTSTAMP:20260423T153153Z
DESCRIPTION:
SUMMARY:Keeping a Business in an Estate Alive:  The Creation of a Statute Allowing a Receiver - Estate Planning Council of Chattanooga 
PRIORITY:3
BEGIN:VALARM
TRIGGER:PT18H
ACTION:DISPLAY
DESCRIPTION:Reminder
END:VALARM
END:VEVENT
END:VCALENDAR