BEGIN:VCALENDAR
PRODID:-//hacksw/handcal//NONSGML v1.0//EN
VERSION:2.0
METHOD:PUBLISH
BEGIN:VEVENT
DTSTART:20231109T130000Z
DTEND:20231109T140000Z
LOCATION:Mountain City Club
UID:2472820231109T130000ZRaising the Bar: Philanthropy Must Evolve
DTSTAMP:20260423T153209Z
DESCRIPTION:\nThis meeting is a joint meeting with the Chattanooga Tax Practitioners\n
SUMMARY:Raising the Bar: Philanthropy Must Evolve - Estate Planning Council of Chattanooga 
PRIORITY:3
BEGIN:VALARM
TRIGGER:PT18H
ACTION:DISPLAY
DESCRIPTION:Reminder
END:VALARM
END:VEVENT
END:VCALENDAR