BEGIN:VCALENDAR
PRODID:-//hacksw/handcal//NONSGML v1.0//EN
VERSION:2.0
METHOD:PUBLISH
BEGIN:VEVENT
DTSTART:20230928T220000Z
DTEND:20230928T230000Z
LOCATION:Mountain City Club
UID:2373020230928T220000ZNot your Old School Employee Stock Ownership Plan!  Modern Design, Creative Trends and Advisor Opportunities
DTSTAMP:20260423T153317Z
DESCRIPTION:
SUMMARY:Not your Old School Employee Stock Ownership Plan!  Modern Design, Creative Trends and Advisor Opportunities - Estate Planning Council of Chattanooga 
PRIORITY:3
BEGIN:VALARM
TRIGGER:PT18H
ACTION:DISPLAY
DESCRIPTION:Reminder
END:VALARM
END:VEVENT
END:VCALENDAR