BEGIN:VCALENDAR
PRODID:-//hacksw/handcal//NONSGML v1.0//EN
VERSION:2.0
METHOD:PUBLISH
BEGIN:VEVENT
DTSTART:20230427T220000Z
DTEND:20230427T230000Z
LOCATION:Mountain City Club
UID:2372820230427T220000ZLegislative Update
DTSTAMP:20260423T152831Z
DESCRIPTION:
SUMMARY:Legislative Update - Estate Planning Council of Chattanooga 
PRIORITY:3
BEGIN:VALARM
TRIGGER:PT18H
ACTION:DISPLAY
DESCRIPTION:Reminder
END:VALARM
END:VEVENT
END:VCALENDAR